BEGIN:VCALENDAR
VERSION:2.0
PRODID:SchoolNow
CALSCALE:GREGORIAN
BEGIN:VEVENT
UID:a98abcc8-f861-11ea-bee5-0af66236e143
DTSTAMP:20210623T024455Z
SUMMARY:CDD Board Meeting - Jun. 2021
LOCATION:Rizzetta & Co.\, Inc.\, 5844 Old Pasco Rd\, Suite 100 Wesley Chape
 l\, FL 33544\, United States
URL;VALUE=URI:https://www.lakesidecdd.org/calendar/2359876/cdd-board-meetin
 g-jun-2021
DTSTART:20210623T150000Z
DTEND:20210623T170000Z
ATTACH;FILENAME=2021-06-23 Lakeside Meeting Agenda- revised v2- web.pdf;FMT
 TYPE=application/pdf:https://campussuite-storage.s3.amazonaws.com/prod/155
 8854/c9b7f49c-ea94-11e9-9497-0a20d2c7fac4/2282402/da6d25e6-d3cc-11eb-9293-
 0a03ded9cd71/file/2021-06-23 Lakeside Meeting Agenda- revised v2- web.pdf
END:VEVENT
END:VCALENDAR
